BEGIN:VCALENDAR
VERSION:2.0
PRODID:-//www.spcaluzernecounty.org//NONSGML kigkonsult.se iCalcreator 2.30
 .10//
CALSCALE:GREGORIAN
METHOD:PUBLISH
UID:a4fa76e2-ca8a-44f9-a119-495e7e446145
X-WR-CALDESC:Join us on Saturday\, March 21\, 2026 for photos with the East
 er Bunny at Subuaru of Wyoming Valley! Bring your furry friends and childr
 en! 4x6 photos available for $10. All dogs must be leashed at all times. S
 mall animals and cats must be in a carrier.
X-WR-RELCALID:9e8389629f40b3ac148e736c99cf98b8
X-WR-TIMEZONE:America/Chicago
BEGIN:VTIMEZONE
TZID:America/Chicago
BEGIN:STANDARD
TZNAME:CST
DTSTART:20251102T020000
TZOFFSETFROM:-0500
TZOFFSETTO:-0600
RDATE:20261101T020000
END:STANDARD
BEGIN:DAYLIGHT
TZNAME:CDT
DTSTART:20260308T020000
TZOFFSETFROM:-0600
TZOFFSETTO:-0500
RDATE:20270314T020000
END:DAYLIGHT
END:VTIMEZONE
BEGIN:VEVENT
UID:49c96590-454d-465b-adfe-0dd451214a2a
DTSTAMP:20260423T184829Z
DESCRIPTION:Join us on Saturday\, March 21\, 2026 for photos with the Easte
 r Bunny at Subuaru of Wyoming Valley! Bring your furry friends and childre
 n! 4x6 photos available for $10. All dogs must be leashed at all times. Sm
 all animals and cats must be in a carrier.
DTSTART;TZID=America/Chicago:20260321T120000
DTEND;TZID=America/Chicago:20260321T140000
LOCATION:1470 PA-315\, Plains \, PA 18702 US
SUMMARY:Easter Bunny Photos!
END:VEVENT
END:VCALENDAR
