BEGIN:VCALENDAR
VERSION:2.0
PRODID:-//www.spcaluzernecounty.org//NONSGML kigkonsult.se iCalcreator 2.30
 .10//
CALSCALE:GREGORIAN
METHOD:PUBLISH
UID:d136f71f-7d38-4a75-91d8-8a4456a91659
X-WR-CALDESC:Just in time for Saint Patty’s Day — and they can be personali
 zed with your pet/pet’s names! 🐾\n\nShow off your companion in style with 
 a custom Lucky Dog Mom or Lucky Cat Mom long sleeve tee featuring your fur
  baby’s name. Because let’s be honest… they’re our REAL Pot of Gold. 🌈\n\n
 🍀Personalized with up to 6 names\n🍀Perfect festive green for Saint Patty’s
  Day\n🍀Proceeds benefit the shelter animals\n🍀A meaningful gift for any pr
 oud pet mom\n\nEvery shirt purchased helps us provide food\, medical care\
 , and second chances to the animals in our care!\nCelebrate this St. Patty
 ’s Day with the lucky love only our pets can give! 💚nOrder yours today and
  support the shelter while honoring your best friend! \n\nNote: these are 
 available for Pickup at the SPCA.\n\nTwo Order Dates: \nOrder By: Feb 27th
  Receive March 6th\nOrder By: March 6th Receive March 13th\n
X-WR-RELCALID:5225fd37a32c4d0b04b78fabf5accdc2
X-WR-TIMEZONE:America/New_York
BEGIN:VTIMEZONE
TZID:America/New_York
BEGIN:STANDARD
TZNAME:EST
DTSTART:20251102T020000
TZOFFSETFROM:-0400
TZOFFSETTO:-0500
RDATE:20261101T020000
END:STANDARD
BEGIN:DAYLIGHT
TZNAME:EDT
DTSTART:20250309T020000
TZOFFSETFROM:-0500
TZOFFSETTO:-0400
RDATE:20260308T020000
RDATE:20270314T020000
END:DAYLIGHT
END:VTIMEZONE
BEGIN:VEVENT
UID:ec1ce2ea-92b4-4dee-bdfa-0693a99924b2
DTSTAMP:20260423T201201Z
DESCRIPTION:Just in time for Saint Patty’s Day — and they can be personaliz
 ed with your pet/pet’s names! 🐾\n\nShow off your companion in style with a
  custom Lucky Dog Mom or Lucky Cat Mom long sleeve tee featuring your fur 
 baby’s name. Because let’s be honest… they’re our REAL Pot of Gold. 🌈\n\n🍀
 Personalized with up to 6 names\n🍀Perfect festive green for Saint Patty’s 
 Day\n🍀Proceeds benefit the shelter animals\n🍀A meaningful gift for any pro
 ud pet mom\n\nEvery shirt purchased helps us provide food\, medical care\,
  and second chances to the animals in our care!\nCelebrate this St. Patty’
 s Day with the lucky love only our pets can give! 💚nOrder yours today and 
 support the shelter while honoring your best friend! \n\nNote: these are a
 vailable for Pickup at the SPCA.\n\nTwo Order Dates: \nOrder By: Feb 27th 
 Receive March 6th\nOrder By: March 6th Receive March 13th\n
DTSTART;TZID=America/New_York:20260216T110000
DTEND;TZID=America/New_York:20260227T140000
LOCATION:https://www.spcaluzernecounty.org/news-events/event-calendar.html/
 event/2026/02/28/lucky-long-sleeve-tees-/555950
SUMMARY:Lucky Long Sleeve Tees!
END:VEVENT
END:VCALENDAR
